BEGIN:VCALENDAR
VERSION:2.0
PRODID:-//Onesti Entertainment - ECPv6.15.20//NONSGML v1.0//EN
CALSCALE:GREGORIAN
METHOD:PUBLISH
X-WR-CALNAME:Onesti Entertainment
X-ORIGINAL-URL:https://oshows.com
X-WR-CALDESC:Events for Onesti Entertainment
REFRESH-INTERVAL;VALUE=DURATION:PT1H
X-Robots-Tag:noindex
X-PUBLISHED-TTL:PT1H
BEGIN:VTIMEZONE
TZID:America/Chicago
BEGIN:DAYLIGHT
TZOFFSETFROM:-0600
TZOFFSETTO:-0500
TZNAME:CDT
DTSTART:20250309T080000
END:DAYLIGHT
BEGIN:STANDARD
TZOFFSETFROM:-0500
TZOFFSETTO:-0600
TZNAME:CST
DTSTART:20251102T070000
END:STANDARD
BEGIN:DAYLIGHT
TZOFFSETFROM:-0600
TZOFFSETTO:-0500
TZNAME:CDT
DTSTART:20260308T080000
END:DAYLIGHT
BEGIN:STANDARD
TZOFFSETFROM:-0500
TZOFFSETTO:-0600
TZNAME:CST
DTSTART:20261101T070000
END:STANDARD
BEGIN:DAYLIGHT
TZOFFSETFROM:-0600
TZOFFSETTO:-0500
TZNAME:CDT
DTSTART:20270314T080000
END:DAYLIGHT
BEGIN:STANDARD
TZOFFSETFROM:-0500
TZOFFSETTO:-0600
TZNAME:CST
DTSTART:20271107T070000
END:STANDARD
END:VTIMEZONE
BEGIN:VEVENT
DTSTART;TZID=America/Chicago:20260305T193000
DTEND;TZID=America/Chicago:20260305T220000
DTSTAMP:20260421T050118
CREATED:20260206T200713Z
LAST-MODIFIED:20260206T200747Z
UID:10006017-1772739000-1772748000@oshows.com
SUMMARY:BOURBON 'N BRASS: LIVE BLUES WITH BROTHER JOHN KATTKE
DESCRIPTION:Join us in our intimate Bourbon ‘N Brass Speakeasy\, located on the 2nd floor of the Des Plaines Theatre\, for an evening of Blues with Brother John Kattke! Food and hand-crafted cocktails are available for purchase. Happy hour pricing available all night ($5 Beer | $6 Wine and call level cocktails). There is a $10 entertainment fee which helps us pay the performer. No RSVP required.  Seating is first-come\, first-seated.  We kindly ask for a two-drink or equivalent minimum. Doors open at 6:30PM  |  Show begins at 7:30PM.\n\n\nBrother John has been a resident musician at Buddy Guy’s Legends in Chicago for over 30 years.  Through his work with Chicago blues greats Buddy Guy & Otis Rush\, he has jammed with Eric Clapton\, Steve Miller\, auditioned for the Black Crowes (in 1998\, but they hired Jimmy Page instead)\, and acquired ringing endorsements from many other musicians of renown. For example: Led Zeppelin vocalist Robert Plant had seen John play with Otis Rush at the Jazz Café in London. When Plant and Kattke met in person at the United Center in Chicago\, Plant told Kattke: “You play a mean guitar!” George Benson came to the jam session that Kattke hosts at Buddy Guy’s Legends in Chicago. After hearing the opening set that John played with his band\, Benson told him: “You’re fearless! I thought I was fearless! You’re fearless!”
URL:https://oshows.com/event/bourbon-n-brass-live-blues-with-brother-john-kaatke/
LOCATION:Des Plaines Theatre\, 1476 Miner St\, Des Plaines\, IL\, 60016\, United States
CATEGORIES:Blues,Bourbon 'N Brass,Jazz,R & B
ATTACH;FMTTYPE=image/png:https://oshows.com/wp-content/uploads/Brother-John-Kattke-generic.png
END:VEVENT
BEGIN:VEVENT
DTSTART;TZID=America/Chicago:20260305T193000
DTEND;TZID=America/Chicago:20260305T220000
DTSTAMP:20260421T050118
CREATED:20260211T203442Z
LAST-MODIFIED:20260226T150237Z
UID:10006029-1772739000-1772748000@oshows.com
SUMMARY:LEGENDS STAGE AT THE ARCADA THEATRE:  BLUES NIGHT with the DOWNTOWN CHARLIE BROWN TRIO
DESCRIPTION:Celebrate Blues music with the Downtown Charie Brown Trio on our Legends Stage in Rock ‘N Ravioli\, located in the lobby of the Arcada Theatre. Food (our Dinner Menu) and hand-crafted cocktails are available for purchase. Happy Hour pricing available all night ($5 Beer | $6 Wine and Call Level Cocktails). This is a free event. We kindly ask for a two-drink or food equivalent minimum.  Doors will open at 6PM and the show will begin at 7:30PM. \nThe Downtown Charlie Brown Blues Trio\, a Chicagoland favorite\, is one of the hottest blues bands in the area. The rugged bluesy voice of Charlie Brown keeps the house rocking all night long. Musical influences are Muddy Waters\, Robert Johnson\, Billie Holiday\, Howlin’ Wolf\, Pine Top Perkins\, Sarah Vaughan\, Aretha Franklin and others. \nCLICK HERE to see menus. \nMake A Reservation
URL:https://oshows.com/event/legends-stage-at-the-arcada-theatre-blues-night-with-the-downtown-charlie-brown-trio-2/
LOCATION:Arcada Theatre\, 105 E Main St\, St. Charles\, IL\, 60174\, United States
CATEGORIES:Blues,Folk,R & B,Southern Rock
ATTACH;FMTTYPE=image/png:https://oshows.com/wp-content/uploads/DCB-generic.png
END:VEVENT
END:VCALENDAR