BEGIN:VCALENDAR
VERSION:2.0
PRODID:-//Onesti Entertainment - ECPv6.15.20//NONSGML v1.0//EN
CALSCALE:GREGORIAN
METHOD:PUBLISH
X-ORIGINAL-URL:https://oshows.com
X-WR-CALDESC:Events for Onesti Entertainment
REFRESH-INTERVAL;VALUE=DURATION:PT1H
X-Robots-Tag:noindex
X-PUBLISHED-TTL:PT1H
BEGIN:VTIMEZONE
TZID:America/Chicago
BEGIN:DAYLIGHT
TZOFFSETFROM:-0600
TZOFFSETTO:-0500
TZNAME:CDT
DTSTART:20250309T080000
END:DAYLIGHT
BEGIN:STANDARD
TZOFFSETFROM:-0500
TZOFFSETTO:-0600
TZNAME:CST
DTSTART:20251102T070000
END:STANDARD
BEGIN:DAYLIGHT
TZOFFSETFROM:-0600
TZOFFSETTO:-0500
TZNAME:CDT
DTSTART:20260308T080000
END:DAYLIGHT
BEGIN:STANDARD
TZOFFSETFROM:-0500
TZOFFSETTO:-0600
TZNAME:CST
DTSTART:20261101T070000
END:STANDARD
BEGIN:DAYLIGHT
TZOFFSETFROM:-0600
TZOFFSETTO:-0500
TZNAME:CDT
DTSTART:20270314T080000
END:DAYLIGHT
BEGIN:STANDARD
TZOFFSETFROM:-0500
TZOFFSETTO:-0600
TZNAME:CST
DTSTART:20271107T070000
END:STANDARD
END:VTIMEZONE
BEGIN:VEVENT
DTSTART;TZID=America/Chicago:20260328T203000
DTEND;TZID=America/Chicago:20260328T203000
DTSTAMP:20260421T050211
CREATED:20260219T222637Z
LAST-MODIFIED:20260311T181055Z
UID:10006072-1774729800-1774729800@oshows.com
SUMMARY:ROCK 'N RAVIOLI: Open for Dinner and Live Entertainment with Ebony & Ivory - Dueling Pianos
DESCRIPTION:Join us for an evening of dueling pianos on our Legends Stage in Rock ‘N Ravioli\, located in the lobby of the Arcada Theatre. Food ($25 Buffet including Honey Fried Chicken\, Pulled Pork\, Pizz-O\, Baked Beans\, Mini Burgers\, Garden Salad and Potato Salad AND our Dinner Menu) and hand-crafted cocktails are available for purchase. There is a $10 cover charge (payable at the door) for this event. We kindly ask for a two-drink or equivalent minimum. Doors will open at 5PM and the show will begin at 8:30PM. \n\nEbony & Ivory Dueling Pianos is a high-octane fiesta that’s part rock show\, part comedy show\, and all sorts of craziness rolled into one big outrageous party.  The audience becomes part of the show in a request-driven sing-along\, dance-along\, thump-the-tables-along extravaganza! \nCLICK HERE to see menus. \nMake A Reservation
URL:https://oshows.com/event/rock-n-ravioli-open-for-dinner-and-live-entertainment-with-ebony-ivory-dueling-pianos-no-cover-3/
LOCATION:Arcada Theatre\, 105 E Main St\, St. Charles\, IL\, 60174\, United States
CATEGORIES:Comedy,Oldies/Classics,Pop,R & B,Rhythm & Blues,Rock Music,Soft Rock
ATTACH;FMTTYPE=image/png:https://oshows.com/wp-content/uploads/Ebony-and-Ivory-no-cover.png
END:VEVENT
END:VCALENDAR